BEGIN:VCALENDAR
VERSION:2.0
PRODID:-//Ministry of Health - ECPv6.15.20//NONSGML v1.0//EN
CALSCALE:GREGORIAN
METHOD:PUBLISH
X-WR-CALNAME:Ministry of Health
X-ORIGINAL-URL:https://www.health.gov.sc
X-WR-CALDESC:Events for Ministry of Health
REFRESH-INTERVAL;VALUE=DURATION:PT1H
X-Robots-Tag:noindex
X-PUBLISHED-TTL:PT1H
BEGIN:VTIMEZONE
TZID:UTC
BEGIN:STANDARD
TZOFFSETFROM:+0000
TZOFFSETTO:+0000
TZNAME:UTC
DTSTART:20250101T000000
END:STANDARD
END:VTIMEZONE
BEGIN:VEVENT
DTSTART;VALUE=DATE:20261125
DTEND;VALUE=DATE:20261126
DTSTAMP:20260425T151059
CREATED:20250129T101851Z
LAST-MODIFIED:20260112T082732Z
UID:16613-1795564800-1795651199@www.health.gov.sc
SUMMARY:International Day for the Elimination of Violence Against Women
DESCRIPTION:Download QR 🠋
URL:https://www.health.gov.sc/event/international-day-for-the-elimination-of-violence-against-women/
CATEGORIES:Recognized Theme Days
END:VEVENT
BEGIN:VEVENT
DTSTART;VALUE=DATE:20261201
DTEND;VALUE=DATE:20261202
DTSTAMP:20260425T151059
CREATED:20250129T101925Z
LAST-MODIFIED:20260112T082411Z
UID:16615-1796083200-1796169599@www.health.gov.sc
SUMMARY:World AIDS Day
DESCRIPTION:Download QR 🠋
URL:https://www.health.gov.sc/event/world-aids-day/
CATEGORIES:Recognized Theme Days
END:VEVENT
BEGIN:VEVENT
DTSTART;VALUE=DATE:20261203
DTEND;VALUE=DATE:20261204
DTSTAMP:20260425T151059
CREATED:20250129T102031Z
LAST-MODIFIED:20260112T082102Z
UID:16618-1796256000-1796342399@www.health.gov.sc
SUMMARY:International day of persons with disabilities
DESCRIPTION:Download QR 🠋
URL:https://www.health.gov.sc/event/international-day-of-persons-with-disabilities/
CATEGORIES:Recognized Theme Days
END:VEVENT
END:VCALENDAR