BEGIN:VCALENDAR
VERSION:2.0
PRODID:-//Ministry of Health - ECPv6.15.20//NONSGML v1.0//EN
CALSCALE:GREGORIAN
METHOD:PUBLISH
X-WR-CALNAME:Ministry of Health
X-ORIGINAL-URL:https://www.health.gov.sc
X-WR-CALDESC:Events for Ministry of Health
REFRESH-INTERVAL;VALUE=DURATION:PT1H
X-Robots-Tag:noindex
X-PUBLISHED-TTL:PT1H
BEGIN:VTIMEZONE
TZID:UTC
BEGIN:STANDARD
TZOFFSETFROM:+0000
TZOFFSETTO:+0000
TZNAME:UTC
DTSTART:20250101T000000
END:STANDARD
END:VTIMEZONE
BEGIN:VEVENT
DTSTART;VALUE=DATE:20260908
DTEND;VALUE=DATE:20260909
DTSTAMP:20260424T120505
CREATED:20250129T101203Z
LAST-MODIFIED:20260112T093841Z
UID:16586-1788825600-1788911999@www.health.gov.sc
SUMMARY:Physical Therapy Day
DESCRIPTION:Download QR 🠋
URL:https://www.health.gov.sc/event/physical-therapy-day/
CATEGORIES:Recognized Theme Days
END:VEVENT
BEGIN:VEVENT
DTSTART;VALUE=DATE:20260910
DTEND;VALUE=DATE:20260911
DTSTAMP:20260424T120505
CREATED:20250129T101222Z
LAST-MODIFIED:20260112T105737Z
UID:16587-1788998400-1789084799@www.health.gov.sc
SUMMARY:World Suicide Prevention Day
DESCRIPTION:Download QR 🠋
URL:https://www.health.gov.sc/event/suicide-prevention-day/
CATEGORIES:Recognized Theme Days
END:VEVENT
BEGIN:VEVENT
DTSTART;VALUE=DATE:20260917
DTEND;VALUE=DATE:20260918
DTSTAMP:20260424T120505
CREATED:20260112T105910Z
LAST-MODIFIED:20260112T105910Z
UID:16834-1789603200-1789689599@www.health.gov.sc
SUMMARY:World Patient Safety Say
DESCRIPTION:Download QR 🠋
URL:https://www.health.gov.sc/event/world-patient-safety-say/
CATEGORIES:Recognized Theme Days
END:VEVENT
BEGIN:VEVENT
DTSTART;VALUE=DATE:20260921
DTEND;VALUE=DATE:20260922
DTSTAMP:20260424T120505
CREATED:20250129T101243Z
LAST-MODIFIED:20260112T093734Z
UID:16588-1789948800-1790035199@www.health.gov.sc
SUMMARY:World Alzheimer’s Day
DESCRIPTION:Download QR 🠋
URL:https://www.health.gov.sc/event/world-alzheimers-day/
CATEGORIES:Recognized Theme Days
END:VEVENT
BEGIN:VEVENT
DTSTART;VALUE=DATE:20260923
DTEND;VALUE=DATE:20260924
DTSTAMP:20260424T120505
CREATED:20250129T101314Z
LAST-MODIFIED:20260112T093630Z
UID:16589-1790121600-1790207999@www.health.gov.sc
SUMMARY:International Day of Sign Language
DESCRIPTION:Download QR 🠋
URL:https://www.health.gov.sc/event/international-day-of-sign-language/
CATEGORIES:Recognized Theme Days
END:VEVENT
BEGIN:VEVENT
DTSTART;VALUE=DATE:20260925
DTEND;VALUE=DATE:20260926
DTSTAMP:20260424T120505
CREATED:20250129T101346Z
LAST-MODIFIED:20260112T093552Z
UID:16593-1790294400-1790380799@www.health.gov.sc
SUMMARY:World Pharmacists Day
DESCRIPTION:Download QR 🠋
URL:https://www.health.gov.sc/event/world-pharmacists-day/
CATEGORIES:Recognized Theme Days
END:VEVENT
BEGIN:VEVENT
DTSTART;VALUE=DATE:20260929
DTEND;VALUE=DATE:20260930
DTSTAMP:20260424T120505
CREATED:20250129T101405Z
LAST-MODIFIED:20260112T083536Z
UID:16595-1790640000-1790726399@www.health.gov.sc
SUMMARY:World Heart Day
DESCRIPTION:Download QR 🠋
URL:https://www.health.gov.sc/event/world-heart-day/
CATEGORIES:Recognized Theme Days
END:VEVENT
BEGIN:VEVENT
DTSTART;VALUE=DATE:20261010
DTEND;VALUE=DATE:20261011
DTSTAMP:20260424T120505
CREATED:20250129T101509Z
LAST-MODIFIED:20260112T083328Z
UID:16600-1791590400-1791676799@www.health.gov.sc
SUMMARY:World Mental Health Day
DESCRIPTION:Download QR 🠋
URL:https://www.health.gov.sc/event/world-mental-health-day/
CATEGORIES:Recognized Theme Days
END:VEVENT
BEGIN:VEVENT
DTSTART;VALUE=DATE:20261014
DTEND;VALUE=DATE:20261015
DTSTAMP:20260424T120505
CREATED:20250129T101542Z
LAST-MODIFIED:20260112T083306Z
UID:16601-1791936000-1792022399@www.health.gov.sc
SUMMARY:World Sight Day
DESCRIPTION:Download QR 🠋
URL:https://www.health.gov.sc/event/world-sight-day/
CATEGORIES:Recognized Theme Days
END:VEVENT
BEGIN:VEVENT
DTSTART;VALUE=DATE:20261015
DTEND;VALUE=DATE:20261016
DTSTAMP:20260424T120505
CREATED:20250129T101632Z
LAST-MODIFIED:20260112T083033Z
UID:16602-1792022400-1792108799@www.health.gov.sc
SUMMARY:Global Handwashing Day
DESCRIPTION:Download QR 🠋
URL:https://www.health.gov.sc/event/global-handwashing-day/
CATEGORIES:Recognized Theme Days
END:VEVENT
BEGIN:VEVENT
DTSTART;VALUE=DATE:20261016
DTEND;VALUE=DATE:20261017
DTSTAMP:20260424T120506
CREATED:20260112T110453Z
LAST-MODIFIED:20260112T110453Z
UID:16837-1792108800-1792195199@www.health.gov.sc
SUMMARY:World Food Day
DESCRIPTION:Download QR 🠋
URL:https://www.health.gov.sc/event/world-food-day/
CATEGORIES:Recognized Theme Days
END:VEVENT
BEGIN:VEVENT
DTSTART;VALUE=DATE:20261024
DTEND;VALUE=DATE:20261025
DTSTAMP:20260424T120506
CREATED:20260112T111713Z
LAST-MODIFIED:20260112T111713Z
UID:16839-1792800000-1792886399@www.health.gov.sc
SUMMARY:World Polio Day
DESCRIPTION:Download QR 🠋
URL:https://www.health.gov.sc/event/world-polio-day/
CATEGORIES:Recognized Theme Days
END:VEVENT
BEGIN:VEVENT
DTSTART;VALUE=DATE:20261027
DTEND;VALUE=DATE:20261028
DTSTAMP:20260424T120506
CREATED:20250129T101655Z
LAST-MODIFIED:20260112T082943Z
UID:16605-1793059200-1793145599@www.health.gov.sc
SUMMARY:International Occupational Therapy Day
DESCRIPTION:Download QR 🠋
URL:https://www.health.gov.sc/event/international-occupational-therapy-day/
CATEGORIES:Recognized Theme Days
END:VEVENT
BEGIN:VEVENT
DTSTART;VALUE=DATE:20261029
DTEND;VALUE=DATE:20261030
DTSTAMP:20260424T120506
CREATED:20250129T101721Z
LAST-MODIFIED:20260112T082845Z
UID:16606-1793232000-1793318399@www.health.gov.sc
SUMMARY:World Stroke Day
DESCRIPTION:Download QR 🠋
URL:https://www.health.gov.sc/event/world-stroke-day/
CATEGORIES:Recognized Theme Days
END:VEVENT
BEGIN:VEVENT
DTSTART;VALUE=DATE:20261114
DTEND;VALUE=DATE:20261115
DTSTAMP:20260424T120506
CREATED:20250129T101805Z
LAST-MODIFIED:20260112T082827Z
UID:16609-1794614400-1794700799@www.health.gov.sc
SUMMARY:World Diabetes Day
DESCRIPTION:Download QR 🠋
URL:https://www.health.gov.sc/event/world-diabetes-day/
CATEGORIES:Recognized Theme Days
END:VEVENT
BEGIN:VEVENT
DTSTART;VALUE=DATE:20261119
DTEND;VALUE=DATE:20261120
DTSTAMP:20260424T120506
CREATED:20250129T101836Z
LAST-MODIFIED:20260112T082751Z
UID:16611-1795046400-1795132799@www.health.gov.sc
SUMMARY:International Men’s Day
DESCRIPTION:Download QR 🠋
URL:https://www.health.gov.sc/event/international-mens-day/
CATEGORIES:Recognized Theme Days
END:VEVENT
BEGIN:VEVENT
DTSTART;VALUE=DATE:20261121
DTEND;VALUE=DATE:20261122
DTSTAMP:20260424T120506
CREATED:20260112T111828Z
LAST-MODIFIED:20260112T111828Z
UID:16841-1795219200-1795305599@www.health.gov.sc
SUMMARY:World Chronic Obstructive Pulmonary Disease Day
DESCRIPTION:Download QR 🠋
URL:https://www.health.gov.sc/event/world-chronic-obstructive-pulmonary-disease-day/
CATEGORIES:Recognized Theme Days
END:VEVENT
BEGIN:VEVENT
DTSTART;VALUE=DATE:20261121
DTEND;VALUE=DATE:20261122
DTSTAMP:20260424T120506
CREATED:20260112T111938Z
LAST-MODIFIED:20260112T111938Z
UID:16843-1795219200-1795305599@www.health.gov.sc
SUMMARY:World Day of Remembrance for Road Traffic Victims
DESCRIPTION:Download QR 🠋
URL:https://www.health.gov.sc/event/world-day-of-remembrance-for-road-traffic-victims/
CATEGORIES:Recognized Theme Days
END:VEVENT
BEGIN:VEVENT
DTSTART;VALUE=DATE:20261125
DTEND;VALUE=DATE:20261126
DTSTAMP:20260424T120506
CREATED:20250129T101851Z
LAST-MODIFIED:20260112T082732Z
UID:16613-1795564800-1795651199@www.health.gov.sc
SUMMARY:International Day for the Elimination of Violence Against Women
DESCRIPTION:Download QR 🠋
URL:https://www.health.gov.sc/event/international-day-for-the-elimination-of-violence-against-women/
CATEGORIES:Recognized Theme Days
END:VEVENT
BEGIN:VEVENT
DTSTART;VALUE=DATE:20261201
DTEND;VALUE=DATE:20261202
DTSTAMP:20260424T120506
CREATED:20250129T101925Z
LAST-MODIFIED:20260112T082411Z
UID:16615-1796083200-1796169599@www.health.gov.sc
SUMMARY:World AIDS Day
DESCRIPTION:Download QR 🠋
URL:https://www.health.gov.sc/event/world-aids-day/
CATEGORIES:Recognized Theme Days
END:VEVENT
BEGIN:VEVENT
DTSTART;VALUE=DATE:20261203
DTEND;VALUE=DATE:20261204
DTSTAMP:20260424T120506
CREATED:20250129T102031Z
LAST-MODIFIED:20260112T082102Z
UID:16618-1796256000-1796342399@www.health.gov.sc
SUMMARY:International day of persons with disabilities
DESCRIPTION:Download QR 🠋
URL:https://www.health.gov.sc/event/international-day-of-persons-with-disabilities/
CATEGORIES:Recognized Theme Days
END:VEVENT
END:VCALENDAR