BEGIN:VCALENDAR
VERSION:2.0
PRODID:-//Ministry of Health - ECPv6.15.20//NONSGML v1.0//EN
CALSCALE:GREGORIAN
METHOD:PUBLISH
X-ORIGINAL-URL:https://www.health.gov.sc
X-WR-CALDESC:Events for Ministry of Health
REFRESH-INTERVAL;VALUE=DURATION:PT1H
X-Robots-Tag:noindex
X-PUBLISHED-TTL:PT1H
BEGIN:VTIMEZONE
TZID:UTC
BEGIN:STANDARD
TZOFFSETFROM:+0000
TZOFFSETTO:+0000
TZNAME:UTC
DTSTART:20250101T000000
END:STANDARD
END:VTIMEZONE
BEGIN:VEVENT
DTSTART;VALUE=DATE:20260508
DTEND;VALUE=DATE:20260509
DTSTAMP:20260424T140700
CREATED:20260112T104033Z
LAST-MODIFIED:20260112T104033Z
UID:16825-1778198400-1778284799@www.health.gov.sc
SUMMARY:World Red Cross Day
DESCRIPTION:Download QR 🠋
URL:https://www.health.gov.sc/event/world-red-cross-day/
CATEGORIES:Recognized Theme Days
END:VEVENT
END:VCALENDAR