BEGIN:VCALENDAR
VERSION:2.0
PRODID:-//Ministry of Health - ECPv6.15.20//NONSGML v1.0//EN
CALSCALE:GREGORIAN
METHOD:PUBLISH
X-WR-CALNAME:Ministry of Health
X-ORIGINAL-URL:https://www.health.gov.sc
X-WR-CALDESC:Events for Ministry of Health
REFRESH-INTERVAL;VALUE=DURATION:PT1H
X-Robots-Tag:noindex
X-PUBLISHED-TTL:PT1H
BEGIN:VTIMEZONE
TZID:UTC
BEGIN:STANDARD
TZOFFSETFROM:+0000
TZOFFSETTO:+0000
TZNAME:UTC
DTSTART:20250101T000000
END:STANDARD
END:VTIMEZONE
BEGIN:VEVENT
DTSTART;VALUE=DATE:20260303
DTEND;VALUE=DATE:20260304
DTSTAMP:20260424T122054
CREATED:20250129T095451Z
LAST-MODIFIED:20260112T095748Z
UID:16541-1772496000-1772582399@www.health.gov.sc
SUMMARY:World Hearing Day
DESCRIPTION:Download QR 🠋
URL:https://www.health.gov.sc/event/world-hearing-day/
CATEGORIES:Recognized Theme Days
END:VEVENT
BEGIN:VEVENT
DTSTART;VALUE=DATE:20260304
DTEND;VALUE=DATE:20260305
DTSTAMP:20260424T122054
CREATED:20250129T095526Z
LAST-MODIFIED:20260112T095717Z
UID:16543-1772582400-1772668799@www.health.gov.sc
SUMMARY:World Obesity Day
DESCRIPTION:Download QR 🠋
URL:https://www.health.gov.sc/event/world-obesity-day/
CATEGORIES:Recognized Theme Days
END:VEVENT
BEGIN:VEVENT
DTSTART;VALUE=DATE:20260308
DTEND;VALUE=DATE:20260309
DTSTAMP:20260424T122054
CREATED:20250129T095538Z
LAST-MODIFIED:20260112T095619Z
UID:16545-1772928000-1773014399@www.health.gov.sc
SUMMARY:International Women’s Day
DESCRIPTION:Download QR 🠋
URL:https://www.health.gov.sc/event/international-womens-day/
CATEGORIES:Recognized Theme Days
END:VEVENT
BEGIN:VEVENT
DTSTART;VALUE=DATE:20260311
DTEND;VALUE=DATE:20260312
DTSTAMP:20260424T122054
CREATED:20250129T100051Z
LAST-MODIFIED:20260112T095352Z
UID:16548-1773187200-1773273599@www.health.gov.sc
SUMMARY:World Kidney Day
DESCRIPTION:Download QR 🠋
URL:https://www.health.gov.sc/event/world-kidney-day/
CATEGORIES:Recognized Theme Days
END:VEVENT
BEGIN:VEVENT
DTSTART;VALUE=DATE:20260320
DTEND;VALUE=DATE:20260321
DTSTAMP:20260424T122054
CREATED:20250129T100133Z
LAST-MODIFIED:20260112T095302Z
UID:16549-1773964800-1774051199@www.health.gov.sc
SUMMARY:World Oral Health Day
DESCRIPTION:Download QR 🠋
URL:https://www.health.gov.sc/event/world-oral-health-day/
CATEGORIES:Recognized Theme Days
END:VEVENT
BEGIN:VEVENT
DTSTART;VALUE=DATE:20260321
DTEND;VALUE=DATE:20260322
DTSTAMP:20260424T122054
CREATED:20250129T100158Z
LAST-MODIFIED:20260112T095220Z
UID:16551-1774051200-1774137599@www.health.gov.sc
SUMMARY:World Down Syndrome Day
DESCRIPTION:Download QR 🠋
URL:https://www.health.gov.sc/event/world-down-syndrome-day/
CATEGORIES:Recognized Theme Days
END:VEVENT
BEGIN:VEVENT
DTSTART;VALUE=DATE:20260322
DTEND;VALUE=DATE:20260323
DTSTAMP:20260424T122054
CREATED:20250129T100217Z
LAST-MODIFIED:20260112T095128Z
UID:16553-1774137600-1774223999@www.health.gov.sc
SUMMARY:World Water Day
DESCRIPTION:Download QR 🠋
URL:https://www.health.gov.sc/event/world-water-day/
CATEGORIES:Recognized Theme Days
END:VEVENT
END:VCALENDAR